BEGIN:VCALENDAR
VERSION:2.0
PRODID:-//Vermont Hollywood - ECPv6.15.20//NONSGML v1.0//EN
CALSCALE:GREGORIAN
METHOD:PUBLISH
X-ORIGINAL-URL:https://www.vermonthollywood.com
X-WR-CALDESC:Events for Vermont Hollywood
REFRESH-INTERVAL;VALUE=DURATION:PT1H
X-Robots-Tag:noindex
X-PUBLISHED-TTL:PT1H
BEGIN:VTIMEZONE
TZID:UTC
BEGIN:STANDARD
TZOFFSETFROM:+0000
TZOFFSETTO:+0000
TZNAME:UTC
DTSTART:20250101T000000
END:STANDARD
END:VTIMEZONE
BEGIN:VEVENT
DTSTART;TZID=UTC:20260320T210000
DTEND;TZID=UTC:20260321T020000
DTSTAMP:20260424T080813
CREATED:20260131T065029Z
LAST-MODIFIED:20260131T065029Z
UID:10000355-1774040400-1774058400@www.vermonthollywood.com
SUMMARY:SYSTEM ERROR presents: Alix Perez + Hijinx (LA Debut)
DESCRIPTION:
URL:https://www.vermonthollywood.com/events/system-error-presents-alix-perez-hijinx-la-debut/
ATTACH;FMTTYPE=image/png:https://www.vermonthollywood.com/wp-content/uploads/2026/01/Screenshot-2026-01-30-224835.png
END:VEVENT
BEGIN:VEVENT
DTSTART;TZID=UTC:20260321T213000
DTEND;TZID=UTC:20260322T013000
DTSTAMP:20260424T080813
CREATED:20260226T190002Z
LAST-MODIFIED:20260226T190002Z
UID:10000362-1774128600-1774143000@www.vermonthollywood.com
SUMMARY:Club 90s Presents: Heated Rivalry 21+
DESCRIPTION:
URL:https://www.vermonthollywood.com/events/club-90s-presents-heated-rivalry-21/
ATTACH;FMTTYPE=image/png:https://www.vermonthollywood.com/wp-content/uploads/2026/02/HeatedRivalRave.png
END:VEVENT
BEGIN:VEVENT
DTSTART;TZID=UTC:20260325T213000
DTEND;TZID=UTC:20260326T013000
DTSTAMP:20260424T080813
CREATED:20260308T092407Z
LAST-MODIFIED:20260308T092407Z
UID:10000364-1774474200-1774488600@www.vermonthollywood.com
SUMMARY:Choreographer's Carnival
DESCRIPTION:
URL:https://www.vermonthollywood.com/events/choreographers-carnival/
ATTACH;FMTTYPE=image/jpeg:https://www.vermonthollywood.com/wp-content/uploads/2023/11/R-1.jpg
END:VEVENT
BEGIN:VEVENT
DTSTART;TZID=UTC:20260327T210000
DTEND;TZID=UTC:20260328T020000
DTSTAMP:20260424T080813
CREATED:20260303T192758Z
LAST-MODIFIED:20260303T192758Z
UID:10000363-1774645200-1774663200@www.vermonthollywood.com
SUMMARY:Pangea Sound Hi-TECH
DESCRIPTION:
URL:https://www.vermonthollywood.com/events/pangea-sound-hi-tech/
ATTACH;FMTTYPE=image/jpeg:https://www.vermonthollywood.com/wp-content/uploads/2026/03/IMG_0344.jpeg
END:VEVENT
BEGIN:VEVENT
DTSTART;TZID=UTC:20260329T190000
DTEND;TZID=UTC:20260329T233000
DTSTAMP:20260424T080813
CREATED:20260131T045209Z
LAST-MODIFIED:20260131T045209Z
UID:10000351-1774810800-1774827000@www.vermonthollywood.com
SUMMARY:Odumodublvck - The Industry Machine Tour\, Los Angeles
DESCRIPTION:
URL:https://www.vermonthollywood.com/events/odumodublvck-the-industry-machine-tour-los-angeles/
ATTACH;FMTTYPE=image/png:https://www.vermonthollywood.com/wp-content/uploads/2026/01/Screenshot-2026-01-30-205150.png
END:VEVENT
END:VCALENDAR