BEGIN:VCALENDAR
VERSION:2.0
PRODID:-//Vermont Hollywood - ECPv6.15.20//NONSGML v1.0//EN
CALSCALE:GREGORIAN
METHOD:PUBLISH
X-WR-CALNAME:Vermont Hollywood
X-ORIGINAL-URL:https://www.vermonthollywood.com
X-WR-CALDESC:Events for Vermont Hollywood
REFRESH-INTERVAL;VALUE=DURATION:PT1H
X-Robots-Tag:noindex
X-PUBLISHED-TTL:PT1H
BEGIN:VTIMEZONE
TZID:UTC
BEGIN:STANDARD
TZOFFSETFROM:+0000
TZOFFSETTO:+0000
TZNAME:UTC
DTSTART:20250101T000000
END:STANDARD
END:VTIMEZONE
BEGIN:VEVENT
DTSTART;TZID=UTC:20260702T183000
DTEND;TZID=UTC:20260702T223000
DTSTAMP:20260424T091104
CREATED:20260422T053323Z
LAST-MODIFIED:20260422T053755Z
UID:10000379-1783017000-1783031400@www.vermonthollywood.com
SUMMARY:Fantastic Reality: Found Futures presented by IRIAM
DESCRIPTION:Found Futures will be headlined by Matara Kan\, kson\, and Lilypichu accompanied by Fantastic Reality’s house band. Found Futures is also a night of many firsts – first live concerts by Matara\, Virtual Signal and Emilya Fell and Lilypichu’s first live in-person concert as a VTuber! Virtual Signal is the first rock band featuring exclusively virtual talents Emiliya Fell (singer\, songwriter)\, StarlightDaryl (guitar\, composer)\, Chacha (guitar)\, conoco (drums). GA DOORS AT 7:00PM\, VIP DOORS AT 6:30PM
URL:https://www.vermonthollywood.com/events/fantastic-reality-found-futures-presented-by-iriam/
ATTACH;FMTTYPE=image/webp:https://www.vermonthollywood.com/wp-content/uploads/2026/04/image-3.webp
END:VEVENT
BEGIN:VEVENT
DTSTART;TZID=UTC:20260703T200000
DTEND;TZID=UTC:20260704T020000
DTSTAMP:20260424T091104
CREATED:20260422T053644Z
LAST-MODIFIED:20260422T053644Z
UID:10000380-1783108800-1783130400@www.vermonthollywood.com
SUMMARY:ANIBASH: CROSSROADS
DESCRIPTION:Join us for an unforgettable night of high-energy\, Tokyo-style anime music\, J-Rock\, and electronic dance music. The night will be headlined by Ryu*\, famed Japanese rhythm-gaming music composer specializing in happy hardcore\, and Hoshimiya Toto\, a virtual artist from Japan DJing electronic dance music. The full DJ lineup is lead by Asahi Crew founders James Landino and KINO (B2B with Assertive)\, alongside Suzubrah\, Hoshimiya Toto\, Ryu*\, and Hyper Potions. GA Doors at 8pm
URL:https://www.vermonthollywood.com/events/anibash-crossroads/
ATTACH;FMTTYPE=image/webp:https://www.vermonthollywood.com/wp-content/uploads/2026/04/image-3.webp
END:VEVENT
BEGIN:VEVENT
DTSTART;TZID=UTC:20260704T140000
DTEND;TZID=UTC:20260704T170000
DTSTAMP:20260424T091104
CREATED:20260422T054016Z
LAST-MODIFIED:20260422T054016Z
UID:10000381-1783173600-1783184400@www.vermonthollywood.com
SUMMARY:FANTASTIC REALITY Presents: Doki Doki: Rewind Time
DESCRIPTION:Famed polymath VTuber Dokibird announces her themed full-length concert with the Fantastic Reality house band\, covering nostalgic songs from the 2000s and 2010s with a focus on punk/rock. In her first live 3D performance\, special guest Chibidoki will join Dokibird for a mini-set and a few duets. As an annual tradition\, Dokibird performs concerts on her birthday – and this year\, that concert is Rewind Time. She will be joined by numerous friends and familiar faces in the Vtubing community to celebrate and sing alongside her. VIP Doors at: 2:00pm PDT GA Doors at: 2:30pm PDT
URL:https://www.vermonthollywood.com/events/fantastic-reality-presents-doki-doki-rewind-time/
ATTACH;FMTTYPE=image/webp:https://www.vermonthollywood.com/wp-content/uploads/2026/04/image-3.webp
END:VEVENT
BEGIN:VEVENT
DTSTART;TZID=UTC:20260718T190000
DTEND;TZID=UTC:20260719T000000
DTSTAMP:20260424T091104
CREATED:20260404T055834Z
LAST-MODIFIED:20260404T055834Z
UID:10000376-1784401200-1784419200@www.vermonthollywood.com
SUMMARY:Have A Nice Life Live in Los Angeles with Bosse-de-Nage
DESCRIPTION:
URL:https://www.vermonthollywood.com/events/have-a-nice-life-live-in-los-angeles-with-bosse-de-nage/
ATTACH;FMTTYPE=image/png:https://www.vermonthollywood.com/wp-content/uploads/2026/04/Screenshot-2026-04-03-225451.png
END:VEVENT
BEGIN:VEVENT
DTSTART;TZID=UTC:20260724T210000
DTEND;TZID=UTC:20260725T020000
DTSTAMP:20260424T091104
CREATED:20260404T054654Z
LAST-MODIFIED:20260404T064031Z
UID:10000373-1784926800-1784944800@www.vermonthollywood.com
SUMMARY:Project Nightfall
DESCRIPTION:
URL:https://www.vermonthollywood.com/events/project-nightfall/
ATTACH;FMTTYPE=image/png:https://www.vermonthollywood.com/wp-content/uploads/2026/04/Screenshot-2026-04-03-224632.png
END:VEVENT
END:VCALENDAR